Workbook

Sheet Resultado
A1: Resultado — Ranking de Cumplimiento Normativo
A2: Calculado automáticamente a partir de la hoja "Checklist". No editar esta hoja.
A4: Categoría | B4: Ítems evaluados | C4: Cumple (Sí) | D4: No cumple | E4: N/A | F4: % Cumplimiento
A5: 1. Cumplimiento Administrativo | B5: =COUNTA(Checklist!D7:D19) -> 0 | C5: =COUNTIF(Checklist!D7:D19,"Sí") -> 0 | D5: =COUNTIF(Checklist!D7:D19,"No") -> 0 | E5: =COUNTIF(Checklist!D7:D19,"N/A") -> 0 | F5: =IFERROR(C5/(C5+D5),"")
A6: 2. Cumplimiento Normativo Cooperativo | B6: =COUNTA(Checklist!D23:D35) -> 0 | C6: =COUNTIF(Checklist!D23:D35,"Sí") -> 0 | D6: =COUNTIF(Checklist!D23:D35,"No") -> 0 | E6: =COUNTIF(Checklist!D23:D35,"N/A") -> 0 | F6: =IFERROR(C6/(C6+D6),"")
A7: 3. Cumplimiento Tributario | B7: =COUNTA(Checklist!D39:D53) -> 0 | C7: =COUNTIF(Checklist!D39:D53,"Sí") -> 0 | D7: =COUNTIF(Checklist!D39:D53,"No") -> 0 | E7: =COUNTIF(Checklist!D39:D53,"N/A") -> 0 | F7: =IFERROR(C7/(C7+D7),"")
A8: 4. Cumplimiento Laboral | B8: =COUNTA(Checklist!D57:D72) -> 0 | C8: =COUNTIF(Checklist!D57:D72,"Sí") -> 0 | D8: =COUNTIF(Checklist!D57:D72,"No") -> 0 | E8: =COUNTIF(Checklist!D57:D72,"N/A") -> 0 | F8: =IFERROR(C8/(C8+D8),"")
A9: 5. Cumplimiento Sanitario (si aplica a la cooperativa) | B9: =COUNTA(Checklist!D76:D80) -> 0 | C9: =COUNTIF(Checklist!D76:D80,"Sí") -> 0 | D9: =COUNTIF(Checklist!D76:D80,"No") -> 0 | E9: =COUNTIF(Checklist!D76:D80,"N/A") -> 0 | F9: =IFERROR(C9/(C9+D9),"")
A10: TOTAL GENERAL | B10: =SUM(B5:B9) -> 0 | C10: =SUM(C5:C9) -> 0 | D10: =SUM(D5:D9) -> 0 | E10: =SUM(E5:E9) -> 0 | F10: =IFERROR(C10/(C10+D10),"")
A12: Puntaje general de cumplimiento: | C12: =F10
A13: Ranking de sanidad normativa: | C13: =IF(C12="","Sin datos",IF(C12>=0.9,"Excelente — Cumplimiento ejemplar",IF(C12>=0.75,"Adecuado — Cumplimiento sólido, con oportunidades puntuales",IF(C12>=0.5,"En riesgo — Requiere plan de regularización","Crítico — Requiere intervención inmediata")))) -> Sin datos
A16: Escala de ranking
A17: ≥ 90% | B17: Excelente — Cumplimiento ejemplar
A18: 75% – 89,9% | B18: Adecuado — Cumplimiento sólido, con oportunidades puntuales
A19: 50% – 74,9% | B19: En riesgo — Requiere plan de regularización
A20: < 50% | B20: Crítico — Requiere intervención inmediata

Sheet Checklist
A1: Guía Checklist para Directivos de Cooperativas — CoopAudit
A2: Marque "Sí", "No" o "N/A" en la columna Cumple. El puntaje y el ranking de cumplimiento se calculan automáticamente en la hoja "Resultado".
A3: Celda amarilla = celda que debe completar el usuario. El resto no requiere edición.
A5: 1. Cumplimiento Administrativo
A6: Ítem | B6: Pregunta de verificación | C6: Norma de referencia | D6: Cumple | E6: Observaciones
A7: 1.1 | B7: ¿La cooperativa tiene vigente su estatuto social inscrito en el Registro de Comercio y publicado en el Diario Oficial? | C7: DFL N°5/2003, art. 9
A8: 1.2 | B8: ¿Se encuentra inscrita y actualizada en el Registro Nacional de Cooperativas administrado por el DECOOP? | C8: DFL N°5/2003, art. 109
A9: 1.3 | B9: ¿Se lleva actualizado el libro de socios, con ingresos, retiros y transferencias de cuotas? | C9: DFL N°5/2003, art. 13
A10: 1.4 | B10: ¿Se celebran las Asambleas Generales Ordinarias dentro de los 4 primeros meses de cada año para aprobar balance, memoria y distribución de excedentes? | C10: DFL N°5/2003, art. 19
A11: 1.5 | B11: ¿Se encuentran constituidos y en funcionamiento el Consejo de Administración y la Junta de Vigilancia, según estatutos? | C11: DFL N°5/2003, arts. 29 y 38
A12: 1.6 | B12: ¿Se tienen registros de actas de reuniones de órganos de administración y vigilancia debidamente firmadas? | C12: DFL N°5/2003, art. 21
A13: 1.7 | B13: ¿Se notificó al DECOOP los cambios en el Consejo de Administración y Junta de Vigilancia dentro de plazo? | C13: DFL N°5/2003, art. 110
A14: 1.8 | B14: ¿Se cumple con la renovación periódica de cargos de directores según estatutos? | C14: DFL N°5/2003, arts. 29 y 38
A15: 1.9 | B15: ¿Se tienen debidamente resguardados los archivos contables, legales y actas por al menos 6 años? | C15: Código de Comercio, art. 44
A16: 1.10 | B16: ¿Se mantiene actualizado el registro de poderes y mandatos otorgados por la cooperativa? | C16: Código Civil, art. 2116 y ss.
A17: 1.11 | B17: ¿La cooperativa cuenta con un domicilio social registrado y vigente? | C17: Estatuto Social y DFL N°5/2003
A18: 1.12 | B18: ¿Se informa oportunamente al DECOOP los aumentos o disminuciones de capital social? | C18: DFL N°5/2003, art. 14
A19: 1.13 | B19: ¿Se mantienen contratos vigentes con bancos y proveedores en condiciones legales? | C19: Código de Comercio y Estatutos
A21: 2. Cumplimiento Normativo Cooperativo
A22: Ítem | B22: Pregunta de verificación | C22: Norma de referencia | D22: Cumple | E22: Observaciones
A23: 2.1 | B23: ¿Se cumple con el principio cooperativo de participación democrática (un socio, un voto)? | C23: DFL N°5/2003, art. 19 inc. 3°
A24: 2.2 | B24: ¿Se entrega anualmente la memoria explicativa y estados financieros a los socios antes de la asamblea? | C24: DFL N°5/2003, art. 20
A25: 2.3 | B25: ¿Se cumple con la auditoría externa obligatoria, si los activos o ventas superan los límites fijados por ley o estatuto? | C25: DFL N°5/2003, art. 113
A26: 2.4 | B26: ¿Se cumple con las remuneraciones y dietas máximas permitidas para directivos y consejeros? | C26: DFL N°5/2003, art. 32
A27: 2.5 | B27: ¿Se encuentra vigente el reglamento interno de funcionamiento (si corresponde al tipo de cooperativa)? | C27: Estatutos y normativa sectorial
A28: 2.6 | B28: ¿Se cumple con la distribución de excedentes y retorno cooperativo de acuerdo a los estatutos? | C28: DFL N°5/2003, arts. 42-47
A29: 2.7 | B29: ¿Se constituyen y funcionan los fondos de reserva legal y de educación obligatorios? | C29: DFL N°5/2003, art. 38
A30: 2.8 | B30: ¿Se respeta el límite máximo de participación de un socio (no más de 20% del capital social)? | C30: DFL N°5/2003, art. 12
A31: 2.9 | B31: ¿Se lleva control de los préstamos o créditos otorgados a socios (si aplica, en cooperativas de ahorro y crédito)? | C31: Ley General de Cooperativas, Título VII
A32: 2.10 | B32: ¿Se cumple con la presentación anual de balances auditados cuando el volumen de operaciones lo exige? | C32: DFL N°5/2003, art. 113
A33: 2.11 | B33: ¿Se han implementado políticas de gestión de riesgos (financieros, operacionales, reputacionales)? | C33: Buenas prácticas DECOOP y SBIF (si aplica)
A34: 2.12 | B34: ¿Se reportan a la Junta de Vigilancia todas las operaciones relevantes de la administración? | C34: DFL N°5/2003, art. 40
A35: 2.13 | B35: ¿Existen reglamentos específicos para servicios internos (ej. uso de créditos, compras colectivas, distribución)? | C35: Estatuto Social y reglamentos internos
A37: 3. Cumplimiento Tributario
A38: Ítem | B38: Pregunta de verificación | C38: Norma de referencia | D38: Cumple | E38: Observaciones
A39: 3.1 | B39: ¿La cooperativa se encuentra inscrita en el RUT y actualizada en el Servicio de Impuestos Internos (SII)? | C39: Código Tributario, art. 66
A40: 3.2 | B40: ¿Se presenta mensualmente el Formulario 29 (IVA, PPM, retenciones)? | C40: Ley de IVA (DL 825/1974), Ley de la Renta
A41: 3.3 | B41: ¿Se presenta el Formulario 22 de declaración anual de renta? | C41: Ley sobre Impuesto a la Renta (DL 824/1974)
A42: 3.4 | B42: ¿Se efectúa la retención de impuestos sobre honorarios y remuneraciones según corresponda? | C42: Ley de la Renta, arts. 42 y 74
A43: 3.5 | B43: ¿Se aplican correctamente las exenciones tributarias especiales de cooperativas (ej. contribuciones de bienes raíces, impuesto de timbres)? | C43: DFL N°5/2003, arts. 48 y 49
...
